BEGIN:VCALENDAR
VERSION:2.0
PRODID:-//NAACP Huntington Branch - ECPv6.15.13.1//NONSGML v1.0//EN
CALSCALE:GREGORIAN
METHOD:PUBLISH
X-WR-CALNAME:NAACP Huntington Branch
X-ORIGINAL-URL:https://naacp.stratigem.cloud
X-WR-CALDESC:Events for NAACP Huntington Branch
REFRESH-INTERVAL;VALUE=DURATION:PT1H
X-Robots-Tag:noindex
X-PUBLISHED-TTL:PT1H
BEGIN:VTIMEZONE
TZID:UTC
BEGIN:STANDARD
TZOFFSETFROM:+0000
TZOFFSETTO:+0000
TZNAME:UTC
DTSTART:20240101T000000
END:STANDARD
END:VTIMEZONE
BEGIN:VEVENT
DTSTART;TZID=UTC:20251120T190000
DTEND;TZID=UTC:20251120T210000
DTSTAMP:20260421T135413
CREATED:20260106T032933Z
LAST-MODIFIED:20260106T032933Z
UID:1954-1763665200-1763672400@naacp.stratigem.cloud
SUMMARY:Healthcare Clarity Forum – Fact or Fiction
DESCRIPTION:A healthcare education forum addressing Medicare\, Medicaid\, and coverage options with expert insight.
URL:https://naacp.stratigem.cloud/event/healthcare-clarity-forum-fact-or-fiction/
END:VEVENT
END:VCALENDAR